BEGIN:VCALENDAR
VERSION:2.0
PRODID:-//wp-events-plugin.com//7.2.3.1//EN
BEGIN:VEVENT
UID:18@joinacademy.nl
DTSTART;TZID=Europe/Amsterdam:20241008T093000
DTEND;TZID=Europe/Amsterdam:20241008T123000
DTSTAMP:20240912T111055Z
URL:https://joinacademy.nl/events/training-verlegproces-voor-kabels-en-lei
 dingen-2/
SUMMARY:Training Verlegproces voor kabels en leidingen
DESCRIPTION:Welke regelingen bestaan er en wanneer pas je welke regeling to
 e? Verkeerde toepassing van verlegregelingen komt de maker duur te staan. 
 Een verkeerde afweging\, voorbereiding of interpretatie kan leiden tot sch
 adeplichtigheid en het leed is dan al geschied\, want de verlegging is nie
 t terug te draaien. In deze training draait alles om soorten verlegregelin
 gen en de toepassing daarvan.
CATEGORIES:Trainingen
LOCATION:Legal Infra\, Amersfoortseweg 38\, Maarn\, Utrecht\, 3951LC\, Nede
 rland
X-APPLE-STRUCTURED-LOCATION;VALUE=URI;X-ADDRESS=Amersfoortseweg 38\, Maarn\
 , Utrecht\, 3951LC\, Nederland;X-APPLE-RADIUS=100;X-TITLE=Legal Infra:geo:
 0,0
END:VEVENT
BEGIN:VTIMEZONE
TZID:Europe/Amsterdam
X-LIC-LOCATION:Europe/Amsterdam
BEGIN:DAYLIGHT
DTSTART:20240331T030000
TZOFFSETFROM:+0100
TZOFFSETTO:+0200
TZNAME:CEST
END:DAYLIGHT
END:VTIMEZONE
END:VCALENDAR