BEGIN:VCALENDAR
VERSION:2.0
PRODID:-//wp-events-plugin.com//7.2.3.1//EN
BEGIN:VEVENT
UID:33@joinacademy.nl
DTSTART;TZID=Europe/Amsterdam:20250304T090000
DTEND;TZID=Europe/Amsterdam:20250304T130000
DTSTAMP:20241022T141410Z
URL:https://joinacademy.nl/events/opleiding-grip-op-kabels-en-leidingen-25
 -1-module-1/
SUMMARY:Opleiding Grip op kabels en leidingen (module 1)
DESCRIPTION:Kabels en leidingen horen standaard tot de toprisico’s binnen
  projecten. Ze worden te laat verlegd\, er is geen capaciteit en er is alt
 ijd discussie over de verlegkosten. Waarom is het zo lastig om daar grip o
 p te krijgen? Hoe houd je overzicht? In vier dagdelen (modules) word je me
 egenomen in de wereld van de ondergrond. Aan het eind van de opleiding heb
  je zicht op wie er allemaal een rol speelt in de ondergrond\, wat hun spe
 elvelden en belangen zijn en hoe je dit praktisch kunt inzetten voor zowel
  telecomkabels als andere kabels en leidingen. Module 1 is een e-learn.\n\
 nMeer informatie\n\nDirect aanmelden
CATEGORIES:Opleidingen
END:VEVENT
BEGIN:VTIMEZONE
TZID:Europe/Amsterdam
X-LIC-LOCATION:Europe/Amsterdam
BEGIN:STANDARD
DTSTART:20241027T020000
TZOFFSETFROM:+0200
TZOFFSETTO:+0100
TZNAME:CET
END:STANDARD
END:VTIMEZONE
END:VCALENDAR